BEGIN:VCALENDAR
VERSION:2.0
PRODID:-//Tukios.com/
BEGIN:VEVENT
UID:61e009b4-9105-4a23-8abe-2142aa5c46aa@obits.ludwickfh.com
DTSTAMP:20260421T064045Z
DTSTART:20260424T133000Z
DTEND:20260424T143000Z
SUMMARY:Viewing
DESCRIPTION:
URL:https://obits.ludwickfh.com/sonya-miller
LOCATION: 25 East Weis Street  Topton PA 19562
GEO:40.5006023;-75.6990625
END:VEVENT
END:VCALENDAR