BEGIN:VCALENDAR
VERSION:2.0
PRODID:-//Tukios.com/
BEGIN:VEVENT
UID:60e05a3c-08c4-44b8-82d6-d2c555468821@obits.ludwickfh.com
DTSTAMP:20260421T064542Z
DTSTART:20260424T143000Z
DTEND:20260424T153000Z
SUMMARY:Funeral Service
DESCRIPTION:
URL:https://obits.ludwickfh.com/sonya-miller
LOCATION:Ludwick Funeral Homes and Cremation Care, Inc. - Topton 25 East 
	Weis Street PO Box 25 Topton PA 19562
GEO:40.5005784;-75.6990306
END:VEVENT
END:VCALENDAR