BEGIN:VCALENDAR
VERSION:2.0
PRODID:-//Tukios.com/
BEGIN:VEVENT
UID:0682a006-02f2-451e-a0c4-b5b2910b567e@obits.ludwickfh.com
DTSTAMP:20260419T184339Z
DTSTART:20260425T150000Z
DTEND:20260425T160000Z
SUMMARY:Mass
DESCRIPTION:
URL:https://obits.ludwickfh.com/patrick-driscoll
LOCATION:Saint Mary's Roman Catholic Church (Hamburg) 94 Walnut Road  
	Hamburg PA 19526
GEO:40.5428256;-76.0232903
END:VEVENT
END:VCALENDAR