BEGIN:VCALENDAR
VERSION:2.0
PRODID:-//Tukios.com/
BEGIN:VEVENT
UID:5993c63c-f3a8-4ead-83eb-071266564b3a@obits.ludwickfh.com
DTSTAMP:20260419T185327Z
DTSTART:20260425T123000Z
DTEND:20260425T144500Z
SUMMARY:Public Viewing
DESCRIPTION:
URL:https://obits.ludwickfh.com/patrick-driscoll
LOCATION:Saint Mary's Roman Catholic Church (Hamburg) 94 Walnut Road  
	Hamburg PA 19526
GEO:40.5428256;-76.0232903
END:VEVENT
END:VCALENDAR