BEGIN:VCALENDAR
VERSION:2.0
PRODID:-//Tukios.com/
BEGIN:VEVENT
UID:229242bd-1bf1-4d35-a99d-070380b44a0d@obits.ludwickfh.com
DTSTAMP:20260423T163856Z
DTSTART:20260426T150000Z
DTEND:20260426T160000Z
SUMMARY:Funeral Service
DESCRIPTION:
URL:https://obits.ludwickfh.com/nagin-patel
LOCATION:Ludwick Funeral Homes and Cremation Care, Inc. - Kutztown 333 
	Greenwich Street PO Box 292 Kutztown PA 19530
GEO:40.5215263;-75.7810821
END:VEVENT
END:VCALENDAR