BEGIN:VCALENDAR
VERSION:2.0
PRODID:-//Tukios.com/
BEGIN:VEVENT
UID:6a9f099e-8580-4d72-8582-b260c58b3830@obits.ludwickfh.com
DTSTAMP:20260423T163520Z
DTSTART:20260426T170000Z
DTEND:20260426T171500Z
SUMMARY:Crematory Service
DESCRIPTION:
URL:https://obits.ludwickfh.com/nagin-patel
LOCATION:Peach Tree Crematory     
GEO:0;0
END:VEVENT
END:VCALENDAR