BEGIN:VCALENDAR
VERSION:2.0
PRODID:-//Tukios.com/
BEGIN:VEVENT
UID:66641cf4-74e0-4ac0-9016-ca7f6646ea59@obits.ludwickfh.com
DTSTAMP:20260423T043941Z
DTSTART:20260428T133000Z
DTEND:20260428T150000Z
SUMMARY:Public Viewing
DESCRIPTION:
URL:https://obits.ludwickfh.com/kerry-minnich
LOCATION:Ludwick Funeral Homes and Cremation Care, Inc. - Kutztown 333 
	Greenwich Street PO Box 292 Kutztown PA 19530
GEO:40.5215263;-75.7810821
END:VEVENT
END:VCALENDAR