BEGIN:VCALENDAR
VERSION:2.0
PRODID:-//Tukios.com/
BEGIN:VEVENT
UID:ba120f50-fa4a-4c5e-8f66-5983a3f79191@obits.ludwickfh.com
DTSTAMP:20260423T044329Z
DTSTART:20260428T150000Z
DTEND:20260428T160000Z
SUMMARY:Funeral Service
DESCRIPTION:
URL:https://obits.ludwickfh.com/kerry-minnich
LOCATION:Ludwick Funeral Homes and Cremation Care, Inc. - Kutztown 333 
	Greenwich Street PO Box 292 Kutztown PA 19530
GEO:40.5215263;-75.7810821
END:VEVENT
END:VCALENDAR