BEGIN:VCALENDAR
VERSION:2.0
PRODID:-//Tukios.com/
BEGIN:VEVENT
UID:4d96035d-a49c-496e-a27c-5895eb867753@obits.ludwickfh.com
DTSTAMP:20260419T224504Z
DTSTART:20260423T220000Z
DTEND:20260423T233000Z
SUMMARY:Public Visitation
DESCRIPTION:
URL:https://obits.ludwickfh.com/jamey-webb
LOCATION:Ludwick Funeral Homes and Cremation Care, Inc. - Kutztown 333 
	Greenwich Street PO Box 292 Kutztown PA 19530
GEO:40.5215263;-75.7810821
END:VEVENT
END:VCALENDAR