BEGIN:VCALENDAR
VERSION:2.0
PRODID:-//Tukios.com/
BEGIN:VEVENT
UID:826df75c-2f3f-4007-8485-c61ee49e25c3@obits.ludwickfh.com
DTSTAMP:20260419T224935Z
DTSTART:20260423T233000Z
DTEND:20260424T003000Z
SUMMARY:Memorial Service
DESCRIPTION:
URL:https://obits.ludwickfh.com/jamey-webb
LOCATION:Ludwick Funeral Homes and Cremation Care, Inc. - Kutztown 333 
	Greenwich Street PO Box 292 Kutztown PA 19530
GEO:40.5215263;-75.7810821
END:VEVENT
END:VCALENDAR