BEGIN:VCALENDAR
VERSION:2.0
PRODID:-//Tukios.com/
BEGIN:VEVENT
UID:b4b2134e-931d-4333-a5f0-dc79b8265c7b@obits.ludwickfh.com
DTSTAMP:20260421T193049Z
DTSTART:20260424T130000Z
DTEND:20260424T150000Z
SUMMARY:Public Viewing
DESCRIPTION:
URL:https://obits.ludwickfh.com/elton-muth
LOCATION:Ludwick Funeral Homes and Cremation Care, Inc. - Kutztown 333 
	Greenwich Street PO Box 292 Kutztown PA 19530
GEO:40.5215263;-75.7810821
END:VEVENT
END:VCALENDAR