BEGIN:VCALENDAR
VERSION:2.0
PRODID:-//Tukios.com/
BEGIN:VEVENT
UID:42c448f0-0a4b-40f4-958c-d0484a6dca84@obits.ludwickfh.com
DTSTAMP:20260421T194318Z
DTSTART:20260424T150000Z
DTEND:20260424T160000Z
SUMMARY:Funeral Service
DESCRIPTION:
URL:https://obits.ludwickfh.com/elton-muth
LOCATION:Ludwick Funeral Homes and Cremation Care, Inc. - Kutztown 333 
	Greenwich Street PO Box 292 Kutztown PA 19530
GEO:40.5215263;-75.7810821
END:VEVENT
END:VCALENDAR