BEGIN:VCALENDAR
VERSION:2.0
PRODID:-//Tukios.com/
BEGIN:VEVENT
UID:ebffa460-6c2b-45c3-9d7c-05f5cca82443@obits.ludwickfh.com
DTSTAMP:20260421T193409Z
DTSTART:20260424T161500Z
DTEND:20260424T164500Z
SUMMARY:Graveside Service
DESCRIPTION:
URL:https://obits.ludwickfh.com/elton-muth
LOCATION:Zion Moselem Church Cemetery 340 Moselem Church Road  Kutztown 
	PA 19530
GEO:40.516523;-75.8356467
END:VEVENT
END:VCALENDAR