BEGIN:VCALENDAR
VERSION:2.0
PRODID:-//Tukios.com/
BEGIN:VEVENT
UID:5a213f8a-4584-4b77-b047-71a634bfa077@obits.ludwickfh.com
DTSTAMP:20260423T060710Z
DTSTART:20260427T130000Z
DTEND:20260427T140000Z
SUMMARY:Public Visitation
DESCRIPTION:
URL:https://obits.ludwickfh.com/barbara-calafati
LOCATION:Saint Mary's Roman Catholic Church 14833 Kutztown Road  Kutztown 
	PA 19530
GEO:40.4985873;-75.8055914
END:VEVENT
END:VCALENDAR