BEGIN:VCALENDAR
VERSION:2.0
PRODID:-//Tukios.com/
BEGIN:VEVENT
UID:b5877548-0ed2-4a05-8471-98968239e9cc@obits.ludwickfh.com
DTSTAMP:20260423T060710Z
DTSTART:20260427T140000Z
DTEND:20260427T150000Z
SUMMARY:Mass
DESCRIPTION:
URL:https://obits.ludwickfh.com/barbara-calafati
LOCATION:Saint Mary's Roman Catholic Church 14833 Kutztown Road  Kutztown 
	PA 19530
GEO:40.4985873;-75.8055914
END:VEVENT
END:VCALENDAR