BEGIN:VCALENDAR
VERSION:2.0
PRODID:-//Tukios.com/
BEGIN:VEVENT
UID:96289733-782e-4f58-bfc2-cddf6b50b5b3@obits.ludwickfh.com
DTSTAMP:20260423T060716Z
DTSTART:20260427T153000Z
DTEND:20260427T160000Z
SUMMARY:Graveside Service
DESCRIPTION:
URL:https://obits.ludwickfh.com/barbara-calafati
LOCATION:Gethsemane Cemetery 3139 Kutztown Road  Reading PA 19605
GEO:40.3844317;-75.9158386
END:VEVENT
END:VCALENDAR